BEGIN:VCALENDAR
VERSION:2.0
PRODID:icalendar-ruby
CALSCALE:GREGORIAN
METHOD:PUBLISH
BEGIN:VEVENT
DTSTAMP:20260421T034136Z
UID:15-1296021@calvarynorth.church
DTSTART:20261018T170000Z
DTEND:20261018T180000Z
CLASS:PUBLIC
CREATED:20260420T181553
DESCRIPTION:Sunday Service
LAST-MODIFIED:20260420T181553
LOCATION:14201 N. 32nd Street Phoenix\, AZ 85032
SUMMARY:Sunday Service
URL;VALUE=URI:https://calvarynorth.com/events/sunday-service/2026-10-18
END:VEVENT
END:VCALENDAR
